BEGIN:VCALENDAR
VERSION:2.0
PRODID:-//Plone.org//NONSGML plone.app.event//EN
X-WR-TIMEZONE:Europe/Zurich
BEGIN:VEVENT
SUMMARY:Schulbesuchstag am Gymnasium
DTSTART;VALUE=DATE:20191117
DTEND;VALUE=DATE:20191119
DTSTAMP;VALUE=DATE-TIME:20260424T004851Z
UID:a70455c2bffe41538f94034a0d73a261@127.0.0.1:10150
CREATED;VALUE=DATE-TIME:20190707T113858Z
LAST-MODIFIED;VALUE=DATE-TIME:20190707T113902Z
URL:https://gymnasium.ai.ch/nuetzliches/termine/schulbesuchstag-am-gymnasi
 um-1
END:VEVENT
END:VCALENDAR
