BEGIN:VCALENDAR
VERSION:2.0
PRODID:-//Plone.org//NONSGML plone.app.event//EN
X-WR-TIMEZONE:Europe/Zurich
BEGIN:VEVENT
SUMMARY:Schulbesuchstag am Gymnasium
DTSTART;VALUE=DATE:20221118
DTEND;VALUE=DATE:20221119
DTSTAMP;VALUE=DATE-TIME:20260423T231616Z
UID:f5b65b3450764ca0bf5bf144cf08b322@127.0.0.1:6081
CREATED;VALUE=DATE-TIME:20220711T202048Z
LAST-MODIFIED;VALUE=DATE-TIME:20220711T202055Z
URL:https://gymnasium.ai.ch/nuetzliches/termine/schulbesuchstag-am-gymnasi
 um-2
END:VEVENT
END:VCALENDAR
