BEGIN:VCALENDAR
VERSION:2.0
PRODID:-//Plone.org//NONSGML plone.app.event//EN
X-WR-TIMEZONE:Europe/Zurich
BEGIN:VEVENT
SUMMARY:Schulbesuchstag am Gymnasium
DTSTART;VALUE=DATE:20231117
DTEND;VALUE=DATE:20231118
DTSTAMP;VALUE=DATE-TIME:20260424T004824Z
UID:82d01984ff3c44989b1a0c97a2b23fef@127.0.0.1:6081
CREATED;VALUE=DATE-TIME:20230712T085232Z
LAST-MODIFIED;VALUE=DATE-TIME:20230712T085236Z
URL:https://gymnasium.ai.ch/nuetzliches/termine/schulbesuchstag-am-gymnasi
 um-4
END:VEVENT
END:VCALENDAR
