BEGIN:VCALENDAR
VERSION:2.0
PRODID:-//Plone.org//NONSGML plone.app.event//EN
X-WR-TIMEZONE:Europe/Zurich
BEGIN:VEVENT
SUMMARY:Schulbesuchstag am Gymnasium
DTSTART;VALUE=DATE:20231120
DTEND;VALUE=DATE:20231121
DTSTAMP;VALUE=DATE-TIME:20260424T005402Z
UID:08f2a41c968248fc9d093193a48fa5a3@127.0.0.1:6081
CREATED;VALUE=DATE-TIME:20230712T085334Z
LAST-MODIFIED;VALUE=DATE-TIME:20230712T085340Z
URL:https://gymnasium.ai.ch/nuetzliches/termine/schulbesuchstag-am-gymnasi
 um-5
END:VEVENT
END:VCALENDAR
