BEGIN:VCALENDAR
VERSION:2.0
PRODID:-//Plone.org//NONSGML plone.app.event//EN
X-WR-TIMEZONE:Europe/Zurich
BEGIN:VEVENT
SUMMARY:Schulbesuchstag am Gymnasium
DTSTART;VALUE=DATE:20251114
DTEND;VALUE=DATE:20251115
DTSTAMP;VALUE=DATE-TIME:20260424T004823Z
UID:b6f2f6f578a142fe8076d8451205fc04@127.0.0.1:6081
CREATED;VALUE=DATE-TIME:20250719T194651Z
LAST-MODIFIED;VALUE=DATE-TIME:20250719T194655Z
URL:https://gymnasium.ai.ch/nuetzliches/termine/schulbesuchstag-am-gymnasi
 um-8
END:VEVENT
END:VCALENDAR
