BEGIN:VCALENDAR
VERSION:2.0
PRODID:-//Plone.org//NONSGML plone.app.event//EN
X-WR-TIMEZONE:Europe/Zurich
BEGIN:VEVENT
SUMMARY:Schulbesuchstag am Gymnasium
DTSTART;VALUE=DATE:20251117
DTEND;VALUE=DATE:20251118
DTSTAMP;VALUE=DATE-TIME:20260424T020547Z
UID:0bfbb0229c554888a3da66c1e06156fa@127.0.0.1:6081
CREATED;VALUE=DATE-TIME:20250719T194838Z
LAST-MODIFIED;VALUE=DATE-TIME:20250719T194847Z
URL:https://gymnasium.ai.ch/nuetzliches/termine/schulbesuchstag-am-gymnasi
 um-9
END:VEVENT
END:VCALENDAR
