BEGIN:VCALENDAR
VERSION:2.0
PRODID:-//Plone.org//NONSGML plone.app.event//EN
X-WR-TIMEZONE:Europe/Zurich
BEGIN:VEVENT
SUMMARY:Schulbesuchstag am Gymnasium
DTSTART;VALUE=DATE:20191114
DTEND;VALUE=DATE:20191116
DTSTAMP;VALUE=DATE-TIME:20260423T231620Z
UID:8d20f4449a534581bab273781fd90127@127.0.0.1:10150
CREATED;VALUE=DATE-TIME:20190707T113823Z
LAST-MODIFIED;VALUE=DATE-TIME:20190707T114333Z
URL:https://gymnasium.ai.ch/nuetzliches/termine/schulbesuchstag-am-gymnasi
 um
END:VEVENT
END:VCALENDAR
