BEGIN:VCALENDAR
VERSION:2.0
PRODID:-//Plone.org//NONSGML plone.app.event//EN
X-WR-TIMEZONE:Europe/Zurich
BEGIN:VEVENT
SUMMARY:Schulbesuchstag
DTSTART;VALUE=DATE:20181115
DTEND;VALUE=DATE:20181117
DTSTAMP;VALUE=DATE-TIME:20260423T231311Z
UID:46e8654e14344594953e679373abf297@127.0.0.1:10150
CREATED;VALUE=DATE-TIME:20180928T120903Z
LAST-MODIFIED;VALUE=DATE-TIME:20180928T150942Z
URL:https://gymnasium.ai.ch/nuetzliches/termine/schulbesuchstag
END:VEVENT
END:VCALENDAR
