BEGIN:VCALENDAR
VERSION:2.0
PRODID:-//Plone.org//NONSGML plone.app.event//EN
X-WR-TIMEZONE:Europe/Zurich
BEGIN:VEVENT
SUMMARY:Schulinterne Lehrpersonenfortbildung
DTSTART;VALUE=DATE:20220223
DTEND;VALUE=DATE:20220225
DTSTAMP;VALUE=DATE-TIME:20260423T231616Z
UID:a927470309054c9da2ed82944c64a48c@127.0.0.1:10150
CREATED;VALUE=DATE-TIME:20220117T102057Z
LAST-MODIFIED;VALUE=DATE-TIME:20220117T102103Z
URL:https://gymnasium.ai.ch/nuetzliches/termine/schulinterne-lehrpersonenf
 ortbildung-1
END:VEVENT
END:VCALENDAR
