BEGIN:VCALENDAR
VERSION:2.0
PRODID:-//Plone.org//NONSGML plone.app.event//EN
X-WR-TIMEZONE:Europe/Zurich
BEGIN:VEVENT
SUMMARY:Schulinterne Lehrpersonenfortbildung (schulfrei)
DTSTART;VALUE=DATE:20250127
DTEND;VALUE=DATE:20250128
DTSTAMP;VALUE=DATE-TIME:20260423T231807Z
UID:e1b725aae1ae44098abdca169e660679@127.0.0.1:6081
CREATED;VALUE=DATE-TIME:20240703T202706Z
LAST-MODIFIED;VALUE=DATE-TIME:20240703T202714Z
URL:https://gymnasium.ai.ch/nuetzliches/termine/schulinterne-lehrpersonenf
 ortbildung-schulfrei-2
END:VEVENT
END:VCALENDAR
