BEGIN:VCALENDAR
VERSION:2.0
PRODID:-//Plone.org//NONSGML plone.app.event//EN
X-WR-TIMEZONE:Europe/Zurich
BEGIN:VEVENT
SUMMARY:Schulinterne Lehrpersonenfortbildung (schulfrei)
DTSTART;VALUE=DATE:20181101
DTEND;VALUE=DATE:20181103
DTSTAMP;VALUE=DATE-TIME:20260423T231807Z
UID:f85ef28e0906404d850a9c0b3fc50ee8@127.0.0.1:10150
CREATED;VALUE=DATE-TIME:20180928T120003Z
LAST-MODIFIED;VALUE=DATE-TIME:20180928T123931Z
URL:https://gymnasium.ai.ch/nuetzliches/termine/schulinterne-lehrpersonenf
 ortbildung-schulfrei
END:VEVENT
END:VCALENDAR
