BEGIN:VCALENDAR
VERSION:2.0
PRODID:-//Plone.org//NONSGML plone.app.event//EN
X-WR-TIMEZONE:Europe/Zurich
BEGIN:VEVENT
SUMMARY:Schulinterne Lehrpersonenfortbildung
DTSTART;VALUE=DATE-TIME:20210526T150000Z
DTEND;VALUE=DATE-TIME:20210526T170000Z
DTSTAMP;VALUE=DATE-TIME:20260423T231523Z
UID:27bb415d3c484107829018fd9dced985@127.0.0.1:10150
CREATED;VALUE=DATE-TIME:20210417T203234Z
LAST-MODIFIED;VALUE=DATE-TIME:20210417T203239Z
URL:https://gymnasium.ai.ch/nuetzliches/termine/schulinterne-lehrpersonenf
 ortbildung
END:VEVENT
END:VCALENDAR
