BEGIN:VCALENDAR
VERSION:2.0
PRODID:-//Plone.org//NONSGML plone.app.event//EN
X-WR-TIMEZONE:Europe/Zurich
BEGIN:VEVENT
SUMMARY:Schulpatronat Fest des Hl. Antonius (schulfrei)
DTSTART;VALUE=DATE:20220612
DTEND;VALUE=DATE:20220614
DTSTAMP;VALUE=DATE-TIME:20260424T005039Z
UID:2cab8b4571be418abe5910bbe15f927f@127.0.0.1:10150
CREATED;VALUE=DATE-TIME:20220118T130114Z
LAST-MODIFIED;VALUE=DATE-TIME:20220118T130118Z
URL:https://gymnasium.ai.ch/nuetzliches/termine/schulpatronat-fest-des-hl-
 antonius-schulfrei-3
END:VEVENT
END:VCALENDAR
