BEGIN:VCALENDAR
VERSION:2.0
PRODID:-//Plone.org//NONSGML plone.app.event//EN
X-WR-TIMEZONE:Europe/Zurich
BEGIN:VEVENT
SUMMARY:Schulpatronat Fest des Hl. Antonius (schulfrei)
DTSTART;VALUE=DATE:20230613
DTEND;VALUE=DATE:20230614
DTSTAMP;VALUE=DATE-TIME:20260424T022041Z
UID:caf83a65a52d4d7593aaee5474de7f80@127.0.0.1:6081
CREATED;VALUE=DATE-TIME:20221012T170518Z
LAST-MODIFIED;VALUE=DATE-TIME:20221012T170547Z
URL:https://gymnasium.ai.ch/nuetzliches/termine/schulpatronat-fest-des-hl-
 antonius-schulfrei-4
END:VEVENT
END:VCALENDAR
