BEGIN:VCALENDAR
VERSION:2.0
PRODID:-//Plone.org//NONSGML plone.app.event//EN
X-WR-TIMEZONE:Europe/Zurich
BEGIN:VEVENT
SUMMARY:Schulpatronat Fest des Hl. Antonius (schulfrei)
DTSTART;VALUE=DATE:20240613
DTEND;VALUE=DATE:20240614
DTSTAMP;VALUE=DATE-TIME:20260424T005528Z
UID:60e1a8bd015148fea460c18de8707f76@127.0.0.1:6081
CREATED;VALUE=DATE-TIME:20240410T090830Z
LAST-MODIFIED;VALUE=DATE-TIME:20240410T090836Z
URL:https://gymnasium.ai.ch/nuetzliches/termine/schulpatronat-fest-des-hl-
 antonius-schulfrei-5
END:VEVENT
END:VCALENDAR
