BEGIN:VCALENDAR
VERSION:2.0
PRODID:-//Plone.org//NONSGML plone.app.event//EN
X-WR-TIMEZONE:Europe/Zurich
BEGIN:VEVENT
SUMMARY:Schulpatronat Fest des Hl. Antonius (schulfrei)
DTSTART;VALUE=DATE:20180612
DTEND;VALUE=DATE:20180614
DTSTAMP;VALUE=DATE-TIME:20260423T231807Z
UID:ad7cfb1675094dd5ab6c8fbca15a2b69@127.0.0.1:10150
CREATED;VALUE=DATE-TIME:20180307T094143Z
LAST-MODIFIED;VALUE=DATE-TIME:20180511T064759Z
URL:https://gymnasium.ai.ch/nuetzliches/termine/schulpatronat-fest-des-hl-
 antonius-schulfrei
END:VEVENT
END:VCALENDAR
