BEGIN:VCALENDAR
VERSION:2.0
PRODID:-//Plone.org//NONSGML plone.app.event//EN
X-WR-TIMEZONE:Europe/Zurich
BEGIN:VEVENT
SUMMARY:Schulpatronat Fest des Hl. Antonius
DTSTART;VALUE=DATE:20210612
DTEND;VALUE=DATE:20210614
DTSTAMP;VALUE=DATE-TIME:20260424T004731Z
UID:969da882afe64abd8a502844cf7db15e@127.0.0.1:10150
CREATED;VALUE=DATE-TIME:20210417T144919Z
LAST-MODIFIED;VALUE=DATE-TIME:20210417T144923Z
URL:https://gymnasium.ai.ch/nuetzliches/termine/schulpatronat-fest-des-hl-
 antonius
END:VEVENT
END:VCALENDAR
