BEGIN:VCALENDAR
VERSION:2.0
PRODID:-//Plone.org//NONSGML plone.app.event//EN
X-WR-TIMEZONE:Europe/Zurich
BEGIN:VEVENT
SUMMARY:Schulschluss 1. - 4. Klassen
DTSTART;TZID=Europe/Vienna;VALUE=DATE-TIME:20230628T120000
DTEND;TZID=Europe/Vienna;VALUE=DATE-TIME:20230628T120000
DTSTAMP;VALUE=DATE-TIME:20260423T231513Z
UID:3dc4514be340456e960cf020df71a884@127.0.0.1:6081
CREATED;VALUE=DATE-TIME:20230423T081334Z
LAST-MODIFIED;VALUE=DATE-TIME:20230423T081340Z
URL:https://gymnasium.ai.ch/nuetzliches/termine/schulschluss-1-4-klassen-1
END:VEVENT
BEGIN:VTIMEZONE
TZID:Europe/Vienna
X-LIC-LOCATION:Europe/Vienna
BEGIN:DAYLIGHT
DTSTART;VALUE=DATE-TIME:20230326T030000
TZNAME:CEST
TZOFFSETFROM:+0100
TZOFFSETTO:+0200
END:DAYLIGHT
END:VTIMEZONE
END:VCALENDAR
