BEGIN:VCALENDAR
VERSION:2.0
PRODID:-//Plone.org//NONSGML plone.app.event//EN
X-WR-TIMEZONE:Europe/Zurich
BEGIN:VEVENT
SUMMARY:Schulschluss: 1.–4. Klassen
DTSTART;VALUE=DATE-TIME:20210630T095500Z
DTEND;VALUE=DATE-TIME:20210630T095500Z
DTSTAMP;VALUE=DATE-TIME:20260424T005258Z
UID:0cabb27dfa9b461fb0bd137f0b274f7d@127.0.0.1:10150
CREATED;VALUE=DATE-TIME:20210417T151456Z
LAST-MODIFIED;VALUE=DATE-TIME:20210417T151500Z
URL:https://gymnasium.ai.ch/nuetzliches/termine/schulschluss-1-4-klassen
END:VEVENT
END:VCALENDAR
