BEGIN:VCALENDAR
VERSION:2.0
PRODID:-//Plone.org//NONSGML plone.app.event//EN
X-WR-TIMEZONE:Europe/Zurich
BEGIN:VEVENT
SUMMARY:Schulschluss 5. Klassen
DTSTART;TZID=Europe/Vienna;VALUE=DATE-TIME:20230628T163000
DTEND;TZID=Europe/Vienna;VALUE=DATE-TIME:20230628T163000
DTSTAMP;VALUE=DATE-TIME:20260423T231514Z
UID:d24ccc04f8f64ee7ba4db79cca4c0c0c@127.0.0.1:6081
CREATED;VALUE=DATE-TIME:20230423T081539Z
LAST-MODIFIED;VALUE=DATE-TIME:20230423T081548Z
URL:https://gymnasium.ai.ch/nuetzliches/termine/schulschluss-5-klassen-1
END:VEVENT
BEGIN:VTIMEZONE
TZID:Europe/Vienna
X-LIC-LOCATION:Europe/Vienna
BEGIN:DAYLIGHT
DTSTART;VALUE=DATE-TIME:20230326T030000
TZNAME:CEST
TZOFFSETFROM:+0100
TZOFFSETTO:+0200
END:DAYLIGHT
END:VTIMEZONE
END:VCALENDAR
