BEGIN:VCALENDAR
VERSION:2.0
PRODID:-//Plone.org//NONSGML plone.app.event//EN
X-WR-TIMEZONE:Europe/Zurich
BEGIN:VEVENT
SUMMARY:Schulschluss: 5. Klassen
DTSTART;VALUE=DATE-TIME:20210630T141500Z
DTEND;VALUE=DATE-TIME:20210630T141500Z
DTSTAMP;VALUE=DATE-TIME:20260423T231403Z
UID:72e9e3d9e19e461fb8147f8dd2cfb167@127.0.0.1:10150
CREATED;VALUE=DATE-TIME:20210417T151754Z
LAST-MODIFIED;VALUE=DATE-TIME:20210417T151758Z
URL:https://gymnasium.ai.ch/nuetzliches/termine/schulschluss-5-klassen
END:VEVENT
END:VCALENDAR
