BEGIN:VCALENDAR
VERSION:2.0
PRODID:-//Plone.org//NONSGML plone.app.event//EN
X-WR-TIMEZONE:Europe/Zurich
BEGIN:VEVENT
SUMMARY:Schulschluss
DTSTART;VALUE=DATE-TIME:20200701T100000Z
DTEND;VALUE=DATE-TIME:20200701T100000Z
DTSTAMP;VALUE=DATE-TIME:20260423T231216Z
UID:669283f901444453ba33b7e5f29c8c3b@127.0.0.1:10150
CREATED;VALUE=DATE-TIME:20200603T203907Z
LAST-MODIFIED;VALUE=DATE-TIME:20200603T204751Z
URL:https://gymnasium.ai.ch/nuetzliches/termine/schulschluss
END:VEVENT
END:VCALENDAR
