BEGIN:VCALENDAR
VERSION:2.0
PRODID:-//Plone.org//NONSGML plone.app.event//EN
X-WR-TIMEZONE:Europe/Zurich
BEGIN:VEVENT
SUMMARY:Schweizerischer Schulsporttag in Bellinzona/Tenero (1. - 3. Klasse
 n)
DTSTART;VALUE=DATE:20240524
DTEND;VALUE=DATE:20240525
DTSTAMP;VALUE=DATE-TIME:20260423T231820Z
UID:be4ad60309024c7e96a25000cb89ee17@127.0.0.1:6081
CREATED;VALUE=DATE-TIME:20240419T072016Z
LAST-MODIFIED;VALUE=DATE-TIME:20240419T072022Z
URL:https://gymnasium.ai.ch/nuetzliches/termine/schweizerischer-schulsport
 tag-in-bellinzona-tenero-1-3-klassen
END:VEVENT
END:VCALENDAR
