BEGIN:VCALENDAR
VERSION:2.0
PRODID:-//Plone.org//NONSGML plone.app.event//EN
X-WR-TIMEZONE:Europe/Zurich
BEGIN:VEVENT
SUMMARY:Skilager
DTSTART;VALUE=DATE:20180210
DTEND;VALUE=DATE:20180217
DTSTAMP;VALUE=DATE-TIME:20260423T231217Z
UID:3f9fe7480e6040b79196fee7d7f34bab@127.0.0.1:10150
CREATED;VALUE=DATE-TIME:20180129T092434Z
DESCRIPTION:Gymi-Skilager: Fiesch - Kühboden
LAST-MODIFIED;VALUE=DATE-TIME:20180129T092438Z
URL:https://gymnasium.ai.ch/nuetzliches/termine/skilager
END:VEVENT
END:VCALENDAR
