BEGIN:VCALENDAR
VERSION:2.0
PRODID:-//Plone.org//NONSGML plone.app.event//EN
X-WR-TIMEZONE:Europe/Zurich
BEGIN:VEVENT
SUMMARY:Sodi: Grosser Sodi-Preis (17.15 - 19.00 Uhr)
DTSTART;VALUE=DATE:20230320
DTEND;VALUE=DATE:20230321
DTSTAMP;VALUE=DATE-TIME:20260424T004726Z
UID:45342e150d5540bf9cb972f8197ccf81@127.0.0.1:6081
CREATED;VALUE=DATE-TIME:20221013T162636Z
LAST-MODIFIED;VALUE=DATE-TIME:20221013T164039Z
URL:https://gymnasium.ai.ch/nuetzliches/termine/sodi-grosser-sodi-preis
END:VEVENT
END:VCALENDAR
