BEGIN:VCALENDAR
VERSION:2.0
PRODID:-//Plone.org//NONSGML plone.app.event//EN
X-WR-TIMEZONE:Europe/Zurich
BEGIN:VEVENT
SUMMARY:Sodi-Nachmittag
DTSTART;TZID=Europe/Vienna;VALUE=DATE-TIME:20230503T120000
DTEND;TZID=Europe/Vienna;VALUE=DATE-TIME:20230503T160000
DTSTAMP;VALUE=DATE-TIME:20260423T231343Z
UID:7bb66ee091044c3f9751532e34c192db@127.0.0.1:6081
CREATED;VALUE=DATE-TIME:20230423T192026Z
LAST-MODIFIED;VALUE=DATE-TIME:20230423T192049Z
URL:https://gymnasium.ai.ch/nuetzliches/termine/sodi-nachmittag
END:VEVENT
BEGIN:VTIMEZONE
TZID:Europe/Vienna
X-LIC-LOCATION:Europe/Vienna
BEGIN:DAYLIGHT
DTSTART;VALUE=DATE-TIME:20230326T030000
TZNAME:CEST
TZOFFSETFROM:+0100
TZOFFSETTO:+0200
END:DAYLIGHT
END:VTIMEZONE
END:VCALENDAR
