BEGIN:VCALENDAR
VERSION:2.0
PRODID:-//Plone.org//NONSGML plone.app.event//EN
X-WR-TIMEZONE:Europe/Zurich
BEGIN:VEVENT
SUMMARY:Sodi
DTSTART;VALUE=DATE-TIME:20180326T151500Z
DTSTAMP;VALUE=DATE-TIME:20260424T004610Z
UID:dad587f974ed4a179df0d99d8f124248@127.0.0.1:10150
CREATED;VALUE=DATE-TIME:20180301T065519Z
DESCRIPTION:Grosser Sodi-Preis (17.15 Uhr)
LAST-MODIFIED;VALUE=DATE-TIME:20180301T065523Z
URL:https://gymnasium.ai.ch/nuetzliches/termine/sodi
END:VEVENT
END:VCALENDAR
