BEGIN:VCALENDAR
VERSION:2.0
PRODID:-//Plone.org//NONSGML plone.app.event//EN
X-WR-TIMEZONE:Europe/Zurich
BEGIN:VEVENT
SUMMARY:SOKA-Informationsabend über Organisationen: Eltern und SchülerIn
 nen 1. und 3. Klassen
DTSTART;TZID=Europe/Zurich;VALUE=DATE-TIME:20250826T193000
DTEND;TZID=Europe/Zurich;VALUE=DATE-TIME:20250826T210000
DTSTAMP;VALUE=DATE-TIME:20260423T231816Z
UID:18471c1f86414ddbbae22fb8d168b890@127.0.0.1:6081
CREATED;VALUE=DATE-TIME:20250719T150440Z
LAST-MODIFIED;VALUE=DATE-TIME:20250719T150445Z
URL:https://gymnasium.ai.ch/nuetzliches/termine/soka-informationsabend-ueb
 er-organisationen-eltern-und-schuelerinnen-1-und-3-klassen
END:VEVENT
BEGIN:VTIMEZONE
TZID:Europe/Zurich
X-LIC-LOCATION:Europe/Zurich
BEGIN:DAYLIGHT
DTSTART;VALUE=DATE-TIME:20250330T030000
TZNAME:CEST
TZOFFSETFROM:+0100
TZOFFSETTO:+0200
END:DAYLIGHT
END:VTIMEZONE
END:VCALENDAR
