BEGIN:VCALENDAR
VERSION:2.0
PRODID:-//Plone.org//NONSGML plone.app.event//EN
X-WR-TIMEZONE:Europe/Zurich
BEGIN:VEVENT
SUMMARY:Sommerferien
DTSTART;VALUE=DATE:20190705
DTEND;VALUE=DATE:20190812
DTSTAMP;VALUE=DATE-TIME:20260424T004324Z
UID:1f9bd35f6f60446cafc32c24ebb088bf@127.0.0.1:10150
CREATED;VALUE=DATE-TIME:20190707T121406Z
LAST-MODIFIED;VALUE=DATE-TIME:20190707T121410Z
URL:https://gymnasium.ai.ch/nuetzliches/termine/sommerferien-1
END:VEVENT
END:VCALENDAR
