BEGIN:VCALENDAR
VERSION:2.0
PRODID:-//Plone.org//NONSGML plone.app.event//EN
X-WR-TIMEZONE:Europe/Zurich
BEGIN:VEVENT
SUMMARY:Sommerferien
DTSTART;VALUE=DATE:20200703
DTEND;VALUE=DATE:20200817
DTSTAMP;VALUE=DATE-TIME:20260423T231239Z
UID:d07f9021a2c74801b5cec87c26a3df9e@127.0.0.1:10150
CREATED;VALUE=DATE-TIME:20200603T205020Z
LAST-MODIFIED;VALUE=DATE-TIME:20200603T205024Z
URL:https://gymnasium.ai.ch/nuetzliches/termine/sommerferien-2
END:VEVENT
END:VCALENDAR
