BEGIN:VCALENDAR
VERSION:2.0
PRODID:-//Plone.org//NONSGML plone.app.event//EN
X-WR-TIMEZONE:Europe/Zurich
BEGIN:VEVENT
SUMMARY:Sommerferien
DTSTART;VALUE=DATE:20210702
DTEND;VALUE=DATE:20210816
DTSTAMP;VALUE=DATE-TIME:20260423T231314Z
UID:29734ad8a0a24424b7ef5e24bb3478e9@127.0.0.1:10150
CREATED;VALUE=DATE-TIME:20210417T152542Z
LAST-MODIFIED;VALUE=DATE-TIME:20210417T152548Z
URL:https://gymnasium.ai.ch/nuetzliches/termine/sommerferien-3
END:VEVENT
END:VCALENDAR
