BEGIN:VCALENDAR
VERSION:2.0
PRODID:-//Plone.org//NONSGML plone.app.event//EN
X-WR-TIMEZONE:Europe/Zurich
BEGIN:VEVENT
SUMMARY:Sommerferien
DTSTART;VALUE=DATE:20220701
DTEND;VALUE=DATE:20220815
DTSTAMP;VALUE=DATE-TIME:20260423T231314Z
UID:44145ab1089b45948782f486500ee667@127.0.0.1:10150
CREATED;VALUE=DATE-TIME:20220222T080454Z
LAST-MODIFIED;VALUE=DATE-TIME:20220711T201316Z
URL:https://gymnasium.ai.ch/nuetzliches/termine/sommerferien-4
END:VEVENT
END:VCALENDAR
