BEGIN:VCALENDAR
VERSION:2.0
PRODID:-//Plone.org//NONSGML plone.app.event//EN
X-WR-TIMEZONE:Europe/Zurich
BEGIN:VEVENT
SUMMARY:Sommerferien
DTSTART;VALUE=DATE:20230701
DTEND;VALUE=DATE:20230814
DTSTAMP;VALUE=DATE-TIME:20260424T004253Z
UID:7b13bec629844dc88bb37e6598c17f38@127.0.0.1:6081
CREATED;VALUE=DATE-TIME:20230423T081837Z
LAST-MODIFIED;VALUE=DATE-TIME:20230423T081850Z
URL:https://gymnasium.ai.ch/nuetzliches/termine/sommerferien-5
END:VEVENT
END:VCALENDAR
