BEGIN:VCALENDAR
VERSION:2.0
PRODID:-//Plone.org//NONSGML plone.app.event//EN
X-WR-TIMEZONE:Europe/Zurich
BEGIN:VEVENT
SUMMARY:Sommerferien
DTSTART;VALUE=DATE:20260704
DTEND;VALUE=DATE:20260817
DTSTAMP;VALUE=DATE-TIME:20260424T004254Z
UID:7d2ef8fcf3f8461d9c8ac54c05ebd225@127.0.0.1:6081
CREATED;VALUE=DATE-TIME:20250720T192242Z
LAST-MODIFIED;VALUE=DATE-TIME:20250720T192248Z
URL:https://gymnasium.ai.ch/nuetzliches/termine/sommerferien-8
END:VEVENT
END:VCALENDAR
