BEGIN:VCALENDAR
VERSION:2.0
PRODID:-//Plone.org//NONSGML plone.app.event//EN
X-WR-TIMEZONE:Europe/Zurich
BEGIN:VEVENT
SUMMARY:Sommerferien
DTSTART;VALUE=DATE-TIME:20180630T060000Z
DTEND;VALUE=DATE-TIME:20180812T070000Z
DTSTAMP;VALUE=DATE-TIME:20260424T004230Z
UID:70095a7e350e435dbb8493f72f83df05@127.0.0.1:10150
CREATED;VALUE=DATE-TIME:20180307T100052Z
LAST-MODIFIED;VALUE=DATE-TIME:20180308T065057Z
URL:https://gymnasium.ai.ch/nuetzliches/termine/sommerferien
END:VEVENT
END:VCALENDAR
