BEGIN:VCALENDAR
VERSION:2.0
PRODID:-//Plone.org//NONSGML plone.app.event//EN
X-WR-TIMEZONE:Europe/Zurich
BEGIN:VEVENT
SUMMARY:Sportferien
DTSTART;VALUE=DATE-TIME:20190228T105500Z
DTEND;VALUE=DATE-TIME:20190309T230000Z
DTSTAMP;VALUE=DATE-TIME:20260424T004414Z
UID:b0e0099af5094429ac2e756291016b29@127.0.0.1:10150
CREATED;VALUE=DATE-TIME:20190220T211625Z
LAST-MODIFIED;VALUE=DATE-TIME:20190220T211630Z
URL:https://gymnasium.ai.ch/nuetzliches/termine/sportferien-1
END:VEVENT
END:VCALENDAR
