BEGIN:VCALENDAR
VERSION:2.0
PRODID:-//Plone.org//NONSGML plone.app.event//EN
X-WR-TIMEZONE:Europe/Zurich
BEGIN:VEVENT
SUMMARY:Sportferien
DTSTART;VALUE=DATE:20200219
DTEND;VALUE=DATE:20200302
DTSTAMP;VALUE=DATE-TIME:20260423T231344Z
UID:b1d02513206d48749adcd0bace2c14c1@127.0.0.1:10150
CREATED;VALUE=DATE-TIME:20191030T143313Z
LAST-MODIFIED;VALUE=DATE-TIME:20200219T153500Z
URL:https://gymnasium.ai.ch/nuetzliches/termine/sportferien-2
END:VEVENT
END:VCALENDAR
