BEGIN:VCALENDAR
VERSION:2.0
PRODID:-//Plone.org//NONSGML plone.app.event//EN
X-WR-TIMEZONE:Europe/Zurich
BEGIN:VEVENT
SUMMARY:Sportferien (11.02.2021\, ab 11.55 Uhr)
DTSTART;VALUE=DATE:20210210
DTEND;VALUE=DATE:20210222
DTSTAMP;VALUE=DATE-TIME:20260423T231356Z
UID:4f4a6f2730784e248ebbd6d22993b8b6@127.0.0.1:10150
CREATED;VALUE=DATE-TIME:20210211T093310Z
LAST-MODIFIED;VALUE=DATE-TIME:20210211T093505Z
URL:https://gymnasium.ai.ch/nuetzliches/termine/sportferien-3
END:VEVENT
END:VCALENDAR
