BEGIN:VCALENDAR
VERSION:2.0
PRODID:-//Plone.org//NONSGML plone.app.event//EN
X-WR-TIMEZONE:Europe/Zurich
BEGIN:VEVENT
SUMMARY:Sportferien
DTSTART;VALUE=DATE:20220223
DTEND;VALUE=DATE:20220307
DTSTAMP;VALUE=DATE-TIME:20260423T231356Z
UID:41268d3ef6824f748985e35e4d7eaeb9@127.0.0.1:10150
CREATED;VALUE=DATE-TIME:20211106T070929Z
LAST-MODIFIED;VALUE=DATE-TIME:20220117T102404Z
URL:https://gymnasium.ai.ch/nuetzliches/termine/sportferien-4
END:VEVENT
END:VCALENDAR
