BEGIN:VCALENDAR
VERSION:2.0
PRODID:-//Plone.org//NONSGML plone.app.event//EN
X-WR-TIMEZONE:Europe/Zurich
BEGIN:VEVENT
SUMMARY:Sportferien
DTSTART;VALUE=DATE:20230217
DTEND;VALUE=DATE:20230227
DTSTAMP;VALUE=DATE-TIME:20260423T231428Z
UID:332bbfdfec4341e287f7ed6d7b2dd002@127.0.0.1:6081
CREATED;VALUE=DATE-TIME:20221012T154755Z
LAST-MODIFIED;VALUE=DATE-TIME:20221012T154807Z
URL:https://gymnasium.ai.ch/nuetzliches/termine/sportferien-5
END:VEVENT
END:VCALENDAR
