BEGIN:VCALENDAR
VERSION:2.0
PRODID:-//Plone.org//NONSGML plone.app.event//EN
X-WR-TIMEZONE:Europe/Zurich
BEGIN:VEVENT
SUMMARY:Sportferien
DTSTART;VALUE=DATE:20250228
DTEND;VALUE=DATE:20250310
DTSTAMP;VALUE=DATE-TIME:20260423T231354Z
UID:292dde9b29784dfab542561a4c70531c@127.0.0.1:6081
CREATED;VALUE=DATE-TIME:20240927T152230Z
LAST-MODIFIED;VALUE=DATE-TIME:20240927T152238Z
URL:https://gymnasium.ai.ch/nuetzliches/termine/sportferien-7
END:VEVENT
END:VCALENDAR
