BEGIN:VCALENDAR
VERSION:2.0
PRODID:-//Plone.org//NONSGML plone.app.event//EN
X-WR-TIMEZONE:Europe/Zurich
BEGIN:VEVENT
SUMMARY:Sportferien
DTSTART;VALUE=DATE:20260213
DTEND;VALUE=DATE:20260223
DTSTAMP;VALUE=DATE-TIME:20260423T231430Z
UID:b7f66f9f728b45a6957e747625b95e41@127.0.0.1:6081
CREATED;VALUE=DATE-TIME:20250720T192554Z
LAST-MODIFIED;VALUE=DATE-TIME:20250720T192600Z
URL:https://gymnasium.ai.ch/nuetzliches/termine/sportferien-8
END:VEVENT
END:VCALENDAR
