BEGIN:VCALENDAR
VERSION:2.0
PRODID:-//Plone.org//NONSGML plone.app.event//EN
X-WR-TIMEZONE:Europe/Zurich
BEGIN:VEVENT
SUMMARY:Sportferien
DTSTART;VALUE=DATE:20180207
DTEND;VALUE=DATE:20180219
DTSTAMP;VALUE=DATE-TIME:20260424T004609Z
UID:92e0c8f3a3c943388d70d707ceb3a8de@127.0.0.1:10150
CREATED;VALUE=DATE-TIME:20180129T092136Z
LAST-MODIFIED;VALUE=DATE-TIME:20180129T092140Z
URL:https://gymnasium.ai.ch/nuetzliches/termine/sportferien
END:VEVENT
END:VCALENDAR
