BEGIN:VCALENDAR
VERSION:2.0
PRODID:-//Plone.org//NONSGML plone.app.event//EN
X-WR-TIMEZONE:Europe/Zurich
BEGIN:VEVENT
SUMMARY:Sporttag
DTSTART;VALUE=DATE:20210630
DTEND;VALUE=DATE:20210702
DTSTAMP;VALUE=DATE-TIME:20260423T231344Z
UID:61b4f45a1251433689b42d92a9ee2662@127.0.0.1:10150
CREATED;VALUE=DATE-TIME:20210417T151915Z
LAST-MODIFIED;VALUE=DATE-TIME:20210417T151919Z
URL:https://gymnasium.ai.ch/nuetzliches/termine/sporttag-2
END:VEVENT
END:VCALENDAR
