BEGIN:VCALENDAR
VERSION:2.0
PRODID:-//Plone.org//NONSGML plone.app.event//EN
X-WR-TIMEZONE:Europe/Zurich
BEGIN:VEVENT
SUMMARY:Sporttag
DTSTART;VALUE=DATE:20220630
DTEND;VALUE=DATE:20220701
DTSTAMP;VALUE=DATE-TIME:20260423T231357Z
UID:ba7ff86bf1904e1aa08a92ca73ea420c@127.0.0.1:10150
CREATED;VALUE=DATE-TIME:20220222T075745Z
LAST-MODIFIED;VALUE=DATE-TIME:20220627T070328Z
URL:https://gymnasium.ai.ch/nuetzliches/termine/sporttag-3
END:VEVENT
END:VCALENDAR
