BEGIN:VCALENDAR
VERSION:2.0
PRODID:-//Plone.org//NONSGML plone.app.event//EN
X-WR-TIMEZONE:Europe/Zurich
BEGIN:VEVENT
SUMMARY:Sporttag
DTSTART;VALUE=DATE:20230629
DTEND;VALUE=DATE:20230630
DTSTAMP;VALUE=DATE-TIME:20260423T231357Z
UID:c53ced8b1f90483cb892aea2edfcb145@127.0.0.1:6081
CREATED;VALUE=DATE-TIME:20221012T182406Z
LAST-MODIFIED;VALUE=DATE-TIME:20221012T182414Z
URL:https://gymnasium.ai.ch/nuetzliches/termine/sporttag-4
END:VEVENT
END:VCALENDAR
