BEGIN:VCALENDAR
VERSION:2.0
PRODID:-//Plone.org//NONSGML plone.app.event//EN
X-WR-TIMEZONE:Europe/Zurich
BEGIN:VEVENT
SUMMARY:Sporttag
DTSTART;VALUE=DATE:20260702
DTEND;VALUE=DATE:20260703
DTSTAMP;VALUE=DATE-TIME:20260424T004323Z
UID:e6b7b54d0cf14853b83ffc4e6cf121e6@127.0.0.1:6081
CREATED;VALUE=DATE-TIME:20250720T194840Z
LAST-MODIFIED;VALUE=DATE-TIME:20250720T194911Z
URL:https://gymnasium.ai.ch/nuetzliches/termine/sporttag-7
END:VEVENT
END:VCALENDAR
