BEGIN:VCALENDAR
VERSION:2.0
PRODID:-//Plone.org//NONSGML plone.app.event//EN
X-WR-TIMEZONE:Europe/Zurich
BEGIN:VEVENT
SUMMARY:Sporttag
DTSTART;VALUE=DATE:20180627
DTEND;VALUE=DATE:20180629
DTSTAMP;VALUE=DATE-TIME:20260424T004608Z
UID:c554b4ba49294a1bbfe1b4f55e0fb685@127.0.0.1:10150
CREATED;VALUE=DATE-TIME:20180307T094807Z
LAST-MODIFIED;VALUE=DATE-TIME:20180511T064921Z
URL:https://gymnasium.ai.ch/nuetzliches/termine/sporttag
END:VEVENT
END:VCALENDAR
