BEGIN:VCALENDAR
VERSION:2.0
PRODID:-//Plone.org//NONSGML plone.app.event//EN
X-WR-TIMEZONE:Europe/Zurich
BEGIN:VEVENT
SUMMARY:Ausstellung «Mathematikum – Mathematik zum Anfassen»
DTSTART;VALUE=DATE:20231114
DTEND;VALUE=DATE:20231124
DTSTAMP;VALUE=DATE-TIME:20260424T005039Z
UID:92a1f62bb6aa41a29dccdb11e725dae9@127.0.0.1:6081
CREATED;VALUE=DATE-TIME:20230712T084941Z
LAST-MODIFIED;VALUE=DATE-TIME:20231113T074137Z
URL:https://gymnasium.ai.ch/nuetzliches/termine/start-ausstellung-mathemat
 ikum-mathematik-zum-anfassen
END:VEVENT
END:VCALENDAR
