BEGIN:VCALENDAR
VERSION:2.0
PRODID:-//Plone.org//NONSGML plone.app.event//EN
X-WR-TIMEZONE:Europe/Zurich
BEGIN:VEVENT
SUMMARY:Start Präsenzunterricht: 07.40 Uhr
DTSTART;VALUE=DATE:20200607
DTEND;VALUE=DATE:20200609
DTSTAMP;VALUE=DATE-TIME:20260423T231241Z
UID:0429fe870a9549baa933c323820818ca@127.0.0.1:10150
CREATED;VALUE=DATE-TIME:20200529T210344Z
LAST-MODIFIED;VALUE=DATE-TIME:20200604T044834Z
URL:https://gymnasium.ai.ch/nuetzliches/termine/start-praesenzunterricht
END:VEVENT
END:VCALENDAR
